BEGIN:VCALENDAR
VERSION:2.0
PRODID:-//Flohmarkt-Troedelmarkt.de - ECPv6.15.20//NONSGML v1.0//EN
CALSCALE:GREGORIAN
METHOD:PUBLISH
X-WR-CALNAME:Flohmarkt-Troedelmarkt.de
X-ORIGINAL-URL:https://www.flohmarkt-troedelmarkt.de
X-WR-CALDESC:Veranstaltungen für Flohmarkt-Troedelmarkt.de
REFRESH-INTERVAL;VALUE=DURATION:PT1H
X-Robots-Tag:noindex
X-PUBLISHED-TTL:PT1H
BEGIN:VTIMEZONE
TZID:Europe/Berlin
BEGIN:DAYLIGHT
TZOFFSETFROM:+0100
TZOFFSETTO:+0200
TZNAME:CEST
DTSTART:20250330T010000
END:DAYLIGHT
BEGIN:STANDARD
TZOFFSETFROM:+0200
TZOFFSETTO:+0100
TZNAME:CET
DTSTART:20251026T010000
END:STANDARD
BEGIN:DAYLIGHT
TZOFFSETFROM:+0100
TZOFFSETTO:+0200
TZNAME:CEST
DTSTART:20260329T010000
END:DAYLIGHT
BEGIN:STANDARD
TZOFFSETFROM:+0200
TZOFFSETTO:+0100
TZNAME:CET
DTSTART:20261025T010000
END:STANDARD
BEGIN:DAYLIGHT
TZOFFSETFROM:+0100
TZOFFSETTO:+0200
TZNAME:CEST
DTSTART:20270328T010000
END:DAYLIGHT
BEGIN:STANDARD
TZOFFSETFROM:+0200
TZOFFSETTO:+0100
TZNAME:CET
DTSTART:20271031T010000
END:STANDARD
END:VTIMEZONE
BEGIN:VEVENT
DTSTART;TZID=Europe/Berlin:20260424T190000
DTEND;TZID=Europe/Berlin:20260424T233000
DTSTAMP:20260424T121520
CREATED:20260106T123550Z
LAST-MODIFIED:20260106T124457Z
UID:137339-1777057200-1777073400@www.flohmarkt-troedelmarkt.de
SUMMARY:Anime Berlin Flohmarkt
DESCRIPTION:Alles neu in 2026? Dann kommt zum zumersten Flohmarkt 2026 von Anime Berlin ^.^!Ihr sucht Sammlerstücke oder andere Schätzchen\, dann seid ihr hier richtig. Von alt bis neu\, es lässt sich für jeden etwas inklusive. \nTisch-Anmeldung via Instagramm oder schickt uns eine Nachricht im
URL:https://www.flohmarkt-troedelmarkt.de/event/anime-berlin-flohmarkt-3/
LOCATION:Anime Berlin
CATEGORIES:Flohmärkte
ORGANIZER;CN="Anime Berlin":MAILTO:noreply@facebookmail.com
END:VEVENT
END:VCALENDAR